BEGIN:VCALENDAR
VERSION:2.0
PRODID:-//Dementia Inclusive Ballina - ECPv6.15.20//NONSGML v1.0//EN
CALSCALE:GREGORIAN
METHOD:PUBLISH
X-WR-CALNAME:Dementia Inclusive Ballina
X-ORIGINAL-URL:https://dementiainclusiveballina.org.au
X-WR-CALDESC:Events for Dementia Inclusive Ballina
REFRESH-INTERVAL;VALUE=DURATION:PT1H
X-Robots-Tag:noindex
X-PUBLISHED-TTL:PT1H
BEGIN:VTIMEZONE
TZID:Australia/Sydney
BEGIN:STANDARD
TZOFFSETFROM:+1100
TZOFFSETTO:+1000
TZNAME:AEST
DTSTART:20220402T160000
END:STANDARD
BEGIN:DAYLIGHT
TZOFFSETFROM:+1000
TZOFFSETTO:+1100
TZNAME:AEDT
DTSTART:20221001T160000
END:DAYLIGHT
BEGIN:STANDARD
TZOFFSETFROM:+1100
TZOFFSETTO:+1000
TZNAME:AEST
DTSTART:20230401T160000
END:STANDARD
BEGIN:DAYLIGHT
TZOFFSETFROM:+1000
TZOFFSETTO:+1100
TZNAME:AEDT
DTSTART:20230930T160000
END:DAYLIGHT
BEGIN:STANDARD
TZOFFSETFROM:+1100
TZOFFSETTO:+1000
TZNAME:AEST
DTSTART:20240406T160000
END:STANDARD
BEGIN:DAYLIGHT
TZOFFSETFROM:+1000
TZOFFSETTO:+1100
TZNAME:AEDT
DTSTART:20241005T160000
END:DAYLIGHT
END:VTIMEZONE
BEGIN:VEVENT
DTSTART;TZID=Australia/Sydney:20231211T000000
DTEND;TZID=Australia/Sydney:20231211T000000
DTSTAMP:20260423T165411
CREATED:20230911T084157Z
LAST-MODIFIED:20230911T084157Z
UID:6722-1702252800-1702252800@dementiainclusiveballina.org.au
SUMMARY:December Dementia Cafe
DESCRIPTION:Good Evening \nPeople living with dementia\, carers and interested community members are invited to share in morning tea at our monthly Dementia Cafe. \nSee you there! \nMel O’Reilly \nOn behalf of the Dementia Inclusive Ballina Alliance Committee.
URL:https://dementiainclusiveballina.org.au/event/november-dementia-cafe-2/
LOCATION:Cafe Sebastian\, Ballina shopping Centre\, Ballina\, New South Wales\, 2478\, Australia
ATTACH;FMTTYPE=image/png:https://dementiainclusiveballina.org.au/wp-content/uploads/2023/09/image.png
END:VEVENT
END:VCALENDAR