BEGIN:VCALENDAR
VERSION:2.0
PRODID:-//Dementia Inclusive Ballina - ECPv6.15.20//NONSGML v1.0//EN
CALSCALE:GREGORIAN
METHOD:PUBLISH
X-ORIGINAL-URL:https://dementiainclusiveballina.org.au
X-WR-CALDESC:Events for Dementia Inclusive Ballina
REFRESH-INTERVAL;VALUE=DURATION:PT1H
X-Robots-Tag:noindex
X-PUBLISHED-TTL:PT1H
BEGIN:VTIMEZONE
TZID:Australia/Sydney
BEGIN:STANDARD
TZOFFSETFROM:+1100
TZOFFSETTO:+1000
TZNAME:AEST
DTSTART:20250405T160000
END:STANDARD
BEGIN:DAYLIGHT
TZOFFSETFROM:+1000
TZOFFSETTO:+1100
TZNAME:AEDT
DTSTART:20251004T160000
END:DAYLIGHT
BEGIN:STANDARD
TZOFFSETFROM:+1100
TZOFFSETTO:+1000
TZNAME:AEST
DTSTART:20260404T160000
END:STANDARD
BEGIN:DAYLIGHT
TZOFFSETFROM:+1000
TZOFFSETTO:+1100
TZNAME:AEDT
DTSTART:20261003T160000
END:DAYLIGHT
BEGIN:STANDARD
TZOFFSETFROM:+1100
TZOFFSETTO:+1000
TZNAME:AEST
DTSTART:20270403T160000
END:STANDARD
BEGIN:DAYLIGHT
TZOFFSETFROM:+1000
TZOFFSETTO:+1100
TZNAME:AEDT
DTSTART:20271002T160000
END:DAYLIGHT
END:VTIMEZONE
BEGIN:VEVENT
DTSTART;TZID=Australia/Sydney:20260311T100000
DTEND;TZID=Australia/Sydney:20260311T140000
DTSTAMP:20260421T071634
CREATED:20250817T061036Z
LAST-MODIFIED:20260302T051008Z
UID:7417-1773223200-1773237600@dementiainclusiveballina.org.au
SUMMARY:Music Muster 2026 -  Music Singing Poetry Dance
DESCRIPTION:Keep the date free. The Music Muster includes: \n\nParadise Pluckers – Ukulele Band.\nPerformance Poet.\nSchool Choir.\nChristian Carroll – Guitar and singing.\nFingerfood and coffee and tea
URL:https://dementiainclusiveballina.org.au/event/music-muster-2026-music-singing-poetry-dance/
LOCATION:Ballina RSL\, 1 Grant Street\, Ballina\, NSW\, 2478\, Australia
END:VEVENT
BEGIN:VEVENT
DTSTART;TZID=Australia/Sydney:20260412T153000
DTEND;TZID=Australia/Sydney:20260412T181500
DTSTAMP:20260421T071634
CREATED:20240819T000229Z
LAST-MODIFIED:20260331T000259Z
UID:7142-1776007800-1776017700@dementiainclusiveballina.org.au
SUMMARY:Tintenbar Upfront…Open Mic – Fundraiser – Food Drinks Music Fun - Community connection
DESCRIPTION:TINTENBAR UP FRONT…OPEN MIC \nTintenbar Hall 2 George Street\, Tintenbar NSW 2478  \nENJOY TRUE RURAL COMMUNITY FUN –  EVERYBODY WELCOME \nBYO NIBBLES AND DRINKS \nSOCIALISE BEFORE HAND \nON THE DECK MUSIC 3.30PM + YUMMY SUPPER \nONLY $10.00 \nCHARITY FUNDRAISER: DEMENTIA INCLUSIVE BALLINA \n3:30 – On the deck – Greg and Jason – keys\, guitar\, and vocals\n4:00  – Peter and Wendy do Dylan – keys\, guitar\, and vocals\n4:20  – Lee Kingston – guitar and vocals – great songs\, sung with soul\n4.40 –  Marty Breen – originals – guitar and vocal\n5:00  – Afternoon tea and socialising\n5:30  – Awesome Voices – acapella choir\n6.15 – Finish
URL:https://dementiainclusiveballina.org.au/event/tintenbar-upfrontopen-mic-fundraiser-food-drinks-music-fun/
LOCATION:Tintenbar Hall\, 2 George Street\, Tintenbar\, NSW\, 2478\, Australia
CATEGORIES:Tintenbar Upfront...Open Mic
END:VEVENT
BEGIN:VEVENT
DTSTART;TZID=Australia/Sydney:20260918T080000
DTEND;TZID=Australia/Sydney:20260918T170000
DTSTAMP:20260421T071634
CREATED:20260420T091620Z
LAST-MODIFIED:20260420T091620Z
UID:7553-1789718400-1789750800@dementiainclusiveballina.org.au
SUMMARY:Dementia Inclusive Ballina Symposium 2026
DESCRIPTION:DETAILS\n\nDate: 18th September 2026\nTime: Registration 8am\, Symposium 8.30am – 17:00pm\nWhere: Ballina RSL Club\, 1 Grant St Ballina\nCost: See registration (Including morning tea\, lunch\, afternoon tea)\nPayment methods: Pay when you register or email us at admin@dementiainclusiveballina.org.au\n\n\nBOOK HERE: \n  \nMASTER OF CEREMONIES: \n  \nPROGRAM*\n  \nMORNING TEA \n  \nLUNCH \n*Subject to change. Limited to 100 people. There will be several short breaks between the afternoon sessions. \nSPEAKERS
URL:https://dementiainclusiveballina.org.au/event/dementia-inclusive-ballina-symposium-2026/
LOCATION:Ballina RSL\, 1 Grant Street\, Ballina\, NSW\, 2478\, Australia
END:VEVENT
END:VCALENDAR