BEGIN:VCALENDAR
VERSION:2.0
PRODID:-//Dementia Inclusive Ballina - ECPv6.15.20//NONSGML v1.0//EN
CALSCALE:GREGORIAN
METHOD:PUBLISH
X-ORIGINAL-URL:https://dementiainclusiveballina.org.au
X-WR-CALDESC:Events for Dementia Inclusive Ballina
REFRESH-INTERVAL;VALUE=DURATION:PT1H
X-Robots-Tag:noindex
X-PUBLISHED-TTL:PT1H
BEGIN:VTIMEZONE
TZID:Australia/Sydney
BEGIN:STANDARD
TZOFFSETFROM:+1100
TZOFFSETTO:+1000
TZNAME:AEST
DTSTART:20230401T160000
END:STANDARD
BEGIN:DAYLIGHT
TZOFFSETFROM:+1000
TZOFFSETTO:+1100
TZNAME:AEDT
DTSTART:20230930T160000
END:DAYLIGHT
BEGIN:STANDARD
TZOFFSETFROM:+1100
TZOFFSETTO:+1000
TZNAME:AEST
DTSTART:20240406T160000
END:STANDARD
BEGIN:DAYLIGHT
TZOFFSETFROM:+1000
TZOFFSETTO:+1100
TZNAME:AEDT
DTSTART:20241005T160000
END:DAYLIGHT
BEGIN:STANDARD
TZOFFSETFROM:+1100
TZOFFSETTO:+1000
TZNAME:AEST
DTSTART:20250405T160000
END:STANDARD
BEGIN:DAYLIGHT
TZOFFSETFROM:+1000
TZOFFSETTO:+1100
TZNAME:AEDT
DTSTART:20251004T160000
END:DAYLIGHT
BEGIN:STANDARD
TZOFFSETFROM:+1100
TZOFFSETTO:+1000
TZNAME:AEST
DTSTART:20260404T160000
END:STANDARD
BEGIN:DAYLIGHT
TZOFFSETFROM:+1000
TZOFFSETTO:+1100
TZNAME:AEDT
DTSTART:20261003T160000
END:DAYLIGHT
END:VTIMEZONE
BEGIN:VEVENT
DTSTART;TZID=Australia/Sydney:20240703T103000
DTEND;TZID=Australia/Sydney:20250108T123000
DTSTAMP:20260423T030813
CREATED:20241019T015707Z
LAST-MODIFIED:20241022T092143Z
UID:7175-1720002600-1736339400@dementiainclusiveballina.org.au
SUMMARY:Dementia Inclusive Ballina Wednesday Activity Events
DESCRIPTION:Wednesday Activity Calendar for 2024
URL:https://dementiainclusiveballina.org.au/event/dementia-inclusive-ballina-club-events/
LOCATION:Ballina Aeroclub\, Ballina Airport\, GA Access Road\, Southern Cross Drive\, Ballina\, New South Wales\, 2480\, Australia
ATTACH;FMTTYPE=image/png:https://dementiainclusiveballina.org.au/wp-content/uploads/2024/10/2024_June-to-December_Activities.png
END:VEVENT
BEGIN:VEVENT
DTSTART;TZID=Australia/Sydney:20240906T100000
DTEND;TZID=Australia/Sydney:20240906T120000
DTSTAMP:20260423T030813
CREATED:20240818T050228Z
LAST-MODIFIED:20240818T050332Z
UID:7027-1725616800-1725624000@dementiainclusiveballina.org.au
SUMMARY:Northern Rivers Younger Onset Dementia Carers Group
DESCRIPTION:We meet at Summerland Farm\, Wardell Road\, Alstonville on the first Friday of each month from 10am-12pm.We warmly welcome all carers of people living with Young Onset Dementia to join this group. We share experiences and stories over a cup of morning tea. \nOccasionally\, we feature a guest speaker to provide additional insights and support. We are also planning to expand our meetings for people living with young onset dementia to come together. \nCost: just pay for your own morning tea \nCONTACT\nDr Sabrina Pit\n0429 455 720\nadmin@dementiainclusiveballina.org.au
URL:https://dementiainclusiveballina.org.au/event/norther-rivers-younger-onset-dementia-carers-group/
LOCATION:Summerland Farm\, 253 Wardell Road\, Alstonville\, New South Wales\, 2477\, Australia
END:VEVENT
END:VCALENDAR